BEGIN:VCALENDAR
VERSION:2.0
PRODID:-//KKCF Global Ministry Inc. - ECPv6.15.20//NONSGML v1.0//EN
CALSCALE:GREGORIAN
METHOD:PUBLISH
X-WR-CALNAME:KKCF Global Ministry Inc.
X-ORIGINAL-URL:https://kkcf-gmi.org
X-WR-CALDESC:Events for KKCF Global Ministry Inc.
REFRESH-INTERVAL;VALUE=DURATION:PT1H
X-Robots-Tag:noindex
X-PUBLISHED-TTL:PT1H
BEGIN:VTIMEZONE
TZID:UTC
BEGIN:STANDARD
TZOFFSETFROM:+0000
TZOFFSETTO:+0000
TZNAME:UTC
DTSTART:20250101T000000
END:STANDARD
END:VTIMEZONE
BEGIN:VEVENT
DTSTART;VALUE=DATE:20260423
DTEND;VALUE=DATE:20260424
DTSTAMP:20260423T174052
CREATED:20260420T151038Z
LAST-MODIFIED:20260420T151038Z
UID:19422-1776902400-1776988799@kkcf-gmi.org
SUMMARY:CE: HOF & Young Couples Seminar - God's Design for Marriage
DESCRIPTION:
URL:https://kkcf-gmi.org/event/ce-hof-young-couples-seminar-gods-design-for-marriage/
LOCATION:KKCF Church\, Al Hilal\, Doha\, Qatar
ATTACH;FMTTYPE=image/png:https://kkcf-gmi.org/wp-content/uploads/2026/04/hof-young-couples-seminar.png
END:VEVENT
BEGIN:VEVENT
DTSTART;TZID=UTC:20260424T140000
DTEND;TZID=UTC:20260424T140000
DTSTAMP:20260423T174052
CREATED:20231122T082339Z
LAST-MODIFIED:20260420T145004Z
UID:5449-1777039200-1777039200@kkcf-gmi.org
SUMMARY:KKCF 33rd Anniversary
DESCRIPTION:
URL:https://kkcf-gmi.org/event/kkcf-event/
LOCATION:KKCF Church\, Al Hilal\, Doha\, Qatar
ATTACH;FMTTYPE=image/jpeg:https://kkcf-gmi.org/wp-content/uploads/2026/04/kkcf_33rd-anniv_events-sched.jpeg
END:VEVENT
BEGIN:VEVENT
DTSTART;VALUE=DATE:20260425
DTEND;VALUE=DATE:20260426
DTSTAMP:20260423T174052
CREATED:20260420T150837Z
LAST-MODIFIED:20260420T150837Z
UID:19420-1777075200-1777161599@kkcf-gmi.org
SUMMARY:CE: Apollos Project - Beginning of the End(Unlocking Revelation)
DESCRIPTION:
URL:https://kkcf-gmi.org/event/ce-apollos-project-beginning-of-the-endunlocking-revelation/
LOCATION:KKCF Church\, Al Hilal\, Doha\, Qatar
ATTACH;FMTTYPE=image/png:https://kkcf-gmi.org/wp-content/uploads/2026/04/begin-of-the-end.png
END:VEVENT
END:VCALENDAR